BEGIN:VCALENDAR
VERSION:2.0
PRODID:-//Tukios.com/
BEGIN:VEVENT
UID:2492f7e3-fd75-499f-8429-add337a8eec4@www.djrobb.on.ca
DTSTAMP:20260422T202206Z
DTSTART:20260424T143000Z
DTEND:20260424T153000Z
SUMMARY:Visitation
DESCRIPTION:
URL:https://www.djrobb.on.ca/obituaries/rosemarie-dunn
LOCATION:D. J. Robb Funeral Home & Cremation Centre 102 Victoria St N  
	Sarnia ON N7T 5W9
GEO:42.970865;-82.4057739
END:VEVENT
END:VCALENDAR