BEGIN:VCALENDAR
VERSION:2.0
PRODID:-//Tukios.com/
BEGIN:VEVENT
UID:879163fe-d215-4029-b79c-c59ac4459496@www.djrobb.on.ca
DTSTAMP:20260422T202206Z
DTSTART:20260424T170000Z
DTEND:20260424T180000Z
SUMMARY:Celebration of Life
DESCRIPTION:
URL:https://www.djrobb.on.ca/obituaries/rosemarie-dunn
LOCATION:D. J. Robb Funeral Home & Cremation Centre 102 Victoria St N  
	Sarnia ON N7T 5W9
GEO:42.970865;-82.4057739
END:VEVENT
END:VCALENDAR